BEGIN:VCALENDAR
PRODID:-//eluceo/ical//2.0/EN
VERSION:2.0
CALSCALE:GREGORIAN
BEGIN:VEVENT
UID:11e1fee4af990dcd1d5a1c7fdc1e767e
DTSTAMP:20260422T230952Z
SUMMARY:6:30PM JCA Board Meeting
DESCRIPTION:Jewish Federation & Foundation of Northeast Florida\nCommunity 
 Calendar\nhttps://jewishjacksonville.org/jewish-federation-of-jacksonville
 -calendar/jca-board-meeting6\n\nBoard Meeting\n\nJCA Board Meeting 6:30pm
DTSTART;TZID=America/New_York:20151208T183000
DTEND;TZID=America/New_York:20151208T200000
END:VEVENT
END:VCALENDAR
