BEGIN:VCALENDAR
PRODID:-//eluceo/ical//2.0/EN
VERSION:2.0
CALSCALE:GREGORIAN
BEGIN:VEVENT
UID:819ffd4d32b8b30146873a537c3bc5c0
DTSTAMP:20260424T045029Z
SUMMARY:6:30 PM - JCA Board Meeting
DESCRIPTION:Jewish Federation & Foundation of Northeast Florida\nCommunity 
 Calendar\nhttps://jewishjacksonville.org/jewish-federation-of-jacksonville
 -calendar/jca-board-meeting-oct17\n\nBOARD MTG\n\nJCA Board Meeting\, 6:00
  PM\n\nhttps://jcajax.org/programs
DTSTART;TZID=America/New_York:20171018T183000
DTEND;TZID=America/New_York:20171018T200000
END:VEVENT
END:VCALENDAR
