BEGIN:VCALENDAR
PRODID:-//eluceo/ical//2.0/EN
VERSION:2.0
CALSCALE:GREGORIAN
BEGIN:VEVENT
UID:3d63f43b15aa453a9c95eabcd23a9119
DTSTAMP:20260425T004448Z
SUMMARY:JCA Board Meeting
DESCRIPTION:Jewish Federation & Foundation of Northeast Florida\nCommunity 
 Calendar\nhttps://jewishjacksonville.org/jewish-federation-of-jacksonville
 -calendar/jca-board-meeting-nov16\n\nBOARD MEETING\n\nJCA Board Meeting\, 
 Nov. 2 at 6:30 PM\n\nhttp://reg.jcajax.org/OnlineEdge/programlist.html
DTSTART;TZID=America/New_York:20161102T183000
DTEND;TZID=America/New_York:20161102T193000
END:VEVENT
END:VCALENDAR
