BEGIN:VCALENDAR
PRODID:-//eluceo/ical//2.0/EN
VERSION:2.0
CALSCALE:GREGORIAN
BEGIN:VEVENT
UID:adce46868503581531f918fa60bcf338
DTSTAMP:20260420T192218Z
SUMMARY:6:30 PM - JCA Board Meeting
DESCRIPTION:Jewish Federation & Foundation of Northeast Florida\nCommunity 
 Calendar\nhttps://jewishjacksonville.org/jewish-federation-of-jacksonville
 -calendar/jca-board-meeting-mar18\n\nBOARD MTG\n\nJCA Board Meeting\, 6:30
  pm\n\nhttps://jcajax.org/programs
DTSTART;TZID=America/New_York:20180307T183000
DTEND;TZID=America/New_York:20180307T193000
END:VEVENT
END:VCALENDAR
