BEGIN:VCALENDAR
PRODID:-//eluceo/ical//2.0/EN
VERSION:2.0
CALSCALE:GREGORIAN
BEGIN:VEVENT
UID:550de51bc13935e77c1160e6299318d7
DTSTAMP:20260421T225138Z
SUMMARY:JCA Board Meeting
DESCRIPTION:Jewish Federation & Foundation of Northeast Florida\nCommunity 
 Calendar\nhttps://jewishjacksonville.org/jewish-federation-of-jacksonville
 -calendar/jca-board-meeting-jan17\n\nBOARD MEETING\n\nJCA Board Meeting\, 
 Jan. 4 at 6:30 PM
DTSTART;TZID=America/New_York:20170104T183000
DTEND;TZID=America/New_York:20170104T193000
END:VEVENT
END:VCALENDAR
