BEGIN:VCALENDAR
PRODID:-//eluceo/ical//2.0/EN
VERSION:2.0
CALSCALE:GREGORIAN
BEGIN:VEVENT
UID:e66cbbc85c4f2909e5e51b5afa36d0a1
DTSTAMP:20260422T175041Z
SUMMARY:6:30 PM - JCA Board Meeting
DESCRIPTION:Jewish Federation & Foundation of Northeast Florida\nCommunity 
 Calendar\nhttps://jewishjacksonville.org/jewish-federation-of-jacksonville
 -calendar/jca-board-meeting-feb18\n\nBOARD MTG\n\nJCA Board Meeting\, 6:30
  pm\n\nhttps://jcajax.org/programs\n\n 
DTSTART;TZID=America/New_York:20180207T183000
DTEND;TZID=America/New_York:20180207T193000
END:VEVENT
END:VCALENDAR
