BEGIN:VCALENDAR
PRODID:-//eluceo/ical//2.0/EN
VERSION:2.0
CALSCALE:GREGORIAN
BEGIN:VEVENT
UID:9e53d746cb4950aebeff8960dbd38874
DTSTAMP:20260424T185525Z
SUMMARY:JCA Board Meeting
DESCRIPTION:Jewish Federation & Foundation of Northeast Florida\nCommunity 
 Calendar\nhttps://jewishjacksonville.org/jewish-federation-of-jacksonville
 -calendar/jca-board-meeting-dec16\n\nBOARD MEETING\n\nJCA Board Meeting\, 
 Dec. 7 at 6:30 PM\n\nhttp://reg.jcajax.org/OnlineEdge/programlist.html
DTSTART;TZID=America/New_York:20161207T183000
DTEND;TZID=America/New_York:20161207T193000
END:VEVENT
END:VCALENDAR
