BEGIN:VCALENDAR
PRODID:-//eluceo/ical//2.0/EN
VERSION:2.0
CALSCALE:GREGORIAN
BEGIN:VEVENT
UID:af9dc8176aa59175a3241d92d58081bb
DTSTAMP:20260423T235906Z
SUMMARY:JCA Board Meeting
DESCRIPTION:Jewish Federation & Foundation of Northeast Florida\nCommunity 
 Calendar\nhttps://jewishjacksonville.org/jewish-federation-of-jacksonville
 -calendar/jca-board-meeting-02\n\nJCA Board Meeting.
DTSTART;TZID=America/New_York:20200211T183000
DTEND;TZID=America/New_York:20200211T203000
END:VEVENT
END:VCALENDAR
