BEGIN:VCALENDAR
PRODID:-//eluceo/ical//2.0/EN
VERSION:2.0
CALSCALE:GREGORIAN
BEGIN:VEVENT
UID:ef56135aa108ec5ae1447819ec4c9cd5
DTSTAMP:20260421T161016Z
SUMMARY:6:30 PM - JCA Board Annual Meeting
DESCRIPTION:Jewish Federation & Foundation of Northeast Florida\nCommunity 
 Calendar\nhttps://jewishjacksonville.org/jewish-federation-of-jacksonville
 -calendar/jca-board-annual-meeting-18\n\nBOARD MTG\n\nJCA Board Meeting\, 
 6:30 pm\n\nhttps://jcajax.org/programs
DTSTART;TZID=America/New_York:20180606T183000
DTEND;TZID=America/New_York:20180606T193000
END:VEVENT
END:VCALENDAR
