BEGIN:VCALENDAR
PRODID:-//eluceo/ical//2.0/EN
VERSION:2.0
CALSCALE:GREGORIAN
BEGIN:VEVENT
UID:aa69a6f4e8e982cae78852ce86807ef3
DTSTAMP:20260422T193449Z
SUMMARY:6:30PM JCA Board Meeting
DESCRIPTION:Jewish Federation & Foundation of Northeast Florida\nCommunity 
 Calendar\nhttps://jewishjacksonville.org/jewish-federation-of-jacksonville
 -calendar/jca-board-4-9-19\n\nVisit our site to learn more!
DTSTART;TZID=America/New_York:20190409T183000
DTEND;TZID=America/New_York:20190409T203000
END:VEVENT
END:VCALENDAR
