BEGIN:VCALENDAR
PRODID:-//eluceo/ical//2.0/EN
VERSION:2.0
CALSCALE:GREGORIAN
BEGIN:VEVENT
UID:c93de6dd10b48099622854eed67104cb
DTSTAMP:20260422T193552Z
SUMMARY:7:30 PM - JCA 30th Anniversary Annual Fundraiser
DESCRIPTION:Jewish Federation & Foundation of Northeast Florida\nCommunity 
 Calendar\nhttps://jewishjacksonville.org/jewish-federation-of-jacksonville
 -calendar/jca-30th-anniversary-annual-fundraiser\n\nANNUAL FUNDRAISER\n\nJ
 CA 30th Anniversary Annual Fundraiser\n\nhttps://jcajax.org/programs
DTSTART;TZID=America/New_York:20180224T193000
DTEND;TZID=America/New_York:20180224T213000
END:VEVENT
END:VCALENDAR
