BEGIN:VCALENDAR
PRODID:-//eluceo/ical//2.0/EN
VERSION:2.0
CALSCALE:GREGORIAN
BEGIN:VEVENT
UID:f7bdf4508aa7862e4945229a1d62d7d5
DTSTAMP:20260425T184046Z
SUMMARY:JCA 25th Birthday Racquetball Tournament
DESCRIPTION:Jewish Federation & Foundation of Northeast Florida\nCommunity 
 Calendar\nhttps://jewishjacksonville.org/jewish-federation-of-jacksonville
 -calendar/jca-25th-birthday-racquetball-tournament\n\nJCA 25th Birthday Ra
 cquetball Tournament
DTSTART;TZID=America/New_York:20130324T000000
DTEND;TZID=America/New_York:20130324T235900
END:VEVENT
END:VCALENDAR
