BEGIN:VCALENDAR
PRODID:-//eluceo/ical//2.0/EN
VERSION:2.0
CALSCALE:GREGORIAN
BEGIN:VEVENT
UID:d829a0a488f43cd60614868ccf105401
DTSTAMP:20260424T015912Z
SUMMARY:JCA 25th Birthday 3 vs. 3 Basketball Classic
DESCRIPTION:Jewish Federation & Foundation of Northeast Florida\nCommunity 
 Calendar\nhttps://jewishjacksonville.org/jewish-federation-of-jacksonville
 -calendar/jca-25th-birthday-3-vs-3-basketball-classic\n\nJCA 25th Birthday
  3 vs. 3 Basketball Classic
DTSTART;TZID=America/New_York:20130324T000000
DTEND;TZID=America/New_York:20130324T235900
END:VEVENT
END:VCALENDAR
