BEGIN:VCALENDAR
PRODID:-//eluceo/ical//2.0/EN
VERSION:2.0
CALSCALE:GREGORIAN
BEGIN:VEVENT
UID:b39dc5004cafed22dfdf3af13eb8907b
DTSTAMP:20260422T055201Z
SUMMARY:JCA 25th Birthday - Bury the Time Capsule
DESCRIPTION:Jewish Federation & Foundation of Northeast Florida\nCommunity 
 Calendar\nhttps://jewishjacksonville.org/jewish-federation-of-jacksonville
 -calendar/jca-25th-birthday---bury-the-time-capsule\n\nJCA 25th Birthday -
  Bury the Time Capsule
DTSTART;TZID=America/New_York:20130505T000000
DTEND;TZID=America/New_York:20130505T235900
END:VEVENT
END:VCALENDAR
