BEGIN:VCALENDAR
PRODID:-//eluceo/ical//2.0/EN
VERSION:2.0
CALSCALE:GREGORIAN
BEGIN:VEVENT
UID:5190f88a088f2f71de58c97e93cf8e32
DTSTAMP:20260425T151757Z
SUMMARY:JCA 2017 Annual Fundraiser
DESCRIPTION:Jewish Federation & Foundation of Northeast Florida\nCommunity 
 Calendar\nhttps://jewishjacksonville.org/jewish-federation-of-jacksonville
 -calendar/jca-2017-annual-fundraiser\n\nFUNDRAISER\n\nJCA 2017 Annual Fund
 raiser\, Feb 25\n\nhttp://reg.jcajax.org/OnlineEdge/programlist.html
DTSTART;TZID=America/New_York:20170225T073000
DTEND;TZID=America/New_York:20170225T235959
END:VEVENT
END:VCALENDAR
