BEGIN:VCALENDAR
PRODID:-//eluceo/ical//2.0/EN
VERSION:2.0
CALSCALE:GREGORIAN
BEGIN:VEVENT
UID:e64913cb10973888966609dec03d723c
DTSTAMP:20260422T124326Z
SUMMARY:JCA 1st Coast Pastel Society Art Opening
DESCRIPTION:Jewish Federation & Foundation of Northeast Florida\nCommunity 
 Calendar\nhttps://jewishjacksonville.org/jewish-federation-of-jacksonville
 -calendar/jca-1st-coast-pastel-society-art-opening\n\nContact us for more 
 information!
DTSTART;TZID=America/New_York:20181104T140000
DTEND;TZID=America/New_York:20181104T160000
END:VEVENT
END:VCALENDAR
