BEGIN:VCALENDAR
PRODID:-//eluceo/ical//2.0/EN
VERSION:2.0
CALSCALE:GREGORIAN
BEGIN:VEVENT
UID:60e6495fff1a5bcef27084984bf7a327
DTSTAMP:20260422T181130Z
SUMMARY:6:00 p.m. Federation Women's Division Beaches Happy Hour
DESCRIPTION:Jewish Federation & Foundation of Northeast Florida\nCommunity 
 Calendar\nhttps://jewishjacksonville.org/jewish-federation-of-jacksonville
 -calendar/jan-federation-womens-division-beaches-happy-hour\n\nFederation 
 Women's Division Beaches Happy Hour\n\nJanuary 30\, 2020\n\n6:00 - 7:30 P.
 M.\n\nMulligans Pub (43 PGA Tour\, Sawgrass Village)
DTSTART;TZID=America/New_York:20200130T180000
DTEND;TZID=America/New_York:20200130T193000
END:VEVENT
END:VCALENDAR
