BEGIN:VCALENDAR
PRODID:-//eluceo/ical//2.0/EN
VERSION:2.0
CALSCALE:GREGORIAN
BEGIN:VEVENT
UID:55e18d5371861d7445790ff716c47e1e
DTSTAMP:20260420T125249Z
SUMMARY:Jacksonville Jewish Film Festival - "bethlehem" 
DESCRIPTION:Jewish Federation & Foundation of Northeast Florida\nCommunity 
 Calendar\nhttps://jewishjacksonville.org/jewish-federation-of-jacksonville
 -calendar/jacksonville-jewish-film-festival-bethlehem\n\nBethlehem - Film\
 n\nMonday\, November 17 at 7:00 PM\n\nCo-written by an Israeli filmmaker a
 nd Arab journalist\,  Bethlehem gives an unparalleled\, authentic portrai
 t of the complex reality behind the news. Israel’s official entry for Be
 st Foreign Language Film Oscar\, Bethlehem is an intricate thriller cente
 red on the tragic relationship between an Israeli intelligence officer and
  his Palestinian informant. \n\nclick here to purchase tickets
DTSTART;TZID=America/New_York:20141117T190000
DTEND;TZID=America/New_York:20141117T210000
END:VEVENT
END:VCALENDAR
