BEGIN:VCALENDAR
PRODID:-//eluceo/ical//2.0/EN
VERSION:2.0
CALSCALE:GREGORIAN
BEGIN:VEVENT
UID:91cfc9d9a2e07cd14cdd11c5c0e86e57
DTSTAMP:20260425T172048Z
SUMMARY:9 PM - Jacksonville Jewish Center NYE Party
DESCRIPTION:Jewish Federation & Foundation of Northeast Florida\nCommunity 
 Calendar\nhttps://jewishjacksonville.org/jewish-federation-of-jacksonville
 -calendar/jacksonville-jewish-center-nye-party\n\nDetails TBD
DTSTART;TZID=America/New_York:20171231T210000
DTEND;TZID=America/New_York:20180101T003000
END:VEVENT
END:VCALENDAR
