BEGIN:VCALENDAR
PRODID:-//eluceo/ical//2.0/EN
VERSION:2.0
CALSCALE:GREGORIAN
BEGIN:VEVENT
UID:90052093ec428996c3d1853959e9d7f5
DTSTAMP:20260423T112511Z
SUMMARY:12PM Jacksonville Jewish Center Men's Club
DESCRIPTION:Jewish Federation & Foundation of Northeast Florida\nCommunity 
 Calendar\nhttps://jewishjacksonville.org/jewish-federation-of-jacksonville
 -calendar/jacksonville-jewish-center-mens-club-Kick-Off\n\nMen's Club Kick
 -Off Event
DTSTART;TZID=America/New_York:20140907T120000
DTEND;TZID=America/New_York:20140907T160000
END:VEVENT
END:VCALENDAR
