BEGIN:VCALENDAR
PRODID:-//eluceo/ical//2.0/EN
VERSION:2.0
CALSCALE:GREGORIAN
BEGIN:VEVENT
UID:5e5be9bd9d6b8868b2ae2ffa9f538293
DTSTAMP:20260421T063430Z
SUMMARY:7:30 PM  Jacksonville Jewish Center Annual Meeting
DESCRIPTION:Jewish Federation & Foundation of Northeast Florida\nCommunity 
 Calendar\nhttps://jewishjacksonville.org/jewish-federation-of-jacksonville
 -calendar/jacksonville-jewish-center-annual-meeting\n\nJacksonville Jewish
  Center Annual Board Meeting
DTSTART;TZID=America/New_York:20180628T193000
DTEND;TZID=America/New_York:20180628T213000
END:VEVENT
END:VCALENDAR
