BEGIN:VCALENDAR
PRODID:-//eluceo/ical//2.0/EN
VERSION:2.0
CALSCALE:GREGORIAN
BEGIN:VEVENT
UID:67be8463234941a491aa960d7c55026e
DTSTAMP:20260421T064258Z
SUMMARY:3 PM - Jacksonville Civic Orchestra at the Center
DESCRIPTION:Jewish Federation & Foundation of Northeast Florida\nCommunity 
 Calendar\nhttps://jewishjacksonville.org/jewish-federation-of-jacksonville
 -calendar/jacksonville-civic-orchestra-at-the-center\n\nJoin the Jacksonvi
 lle Civic Orchestra for a community concert at the Jacksonville Jewish Cen
 ter. More information to come!
DTSTART;TZID=America/New_York:20171210T150000
DTEND;TZID=America/New_York:20171210T160000
END:VEVENT
END:VCALENDAR
