BEGIN:VCALENDAR
PRODID:-//eluceo/ical//2.0/EN
VERSION:2.0
CALSCALE:GREGORIAN
BEGIN:VEVENT
UID:e6e9b8f1a501fe568ced3fe1315f6f0a
DTSTAMP:20260422T105413Z
SUMMARY:7:30PM Israel Uncorked: A look Inside Israel’s Wine Industry
DESCRIPTION:Jewish Federation & Foundation of Northeast Florida\nCommunity 
 Calendar\nhttps://jewishjacksonville.org/jewish-federation-of-jacksonville
 -calendar/israel-uncorked-a-look-inside-israels-wine-industry\n\nCOMMUNITY
  PROGRAM: The JCA is pleased to partner with Etz Chaim for “Israel Today
 \,” a 4-day series highlighting the richness of Israel and some of her m
 ost daunting challenges. This series is free to the entire community. Call
  730-2100 ext. 228 or visit www.jcajax.org/ji for more information or to 
 register.\n\n \n\nIsrael Uncorked: A look Inside Israel’s Wine Industry
 \n\nFormerly known as the land of milk and honey\, Israel is now known as 
 the land of wine and technology. Join certifie...
DTSTART;TZID=America/New_York:20160208T193000
DTEND;TZID=America/New_York:20160208T210000
END:VEVENT
END:VCALENDAR
