BEGIN:VCALENDAR
PRODID:-//eluceo/ical//2.0/EN
VERSION:2.0
CALSCALE:GREGORIAN
BEGIN:VEVENT
UID:59a4901c9dd1b2e4f143564e9306cc56
DTSTAMP:20260420T213657Z
SUMMARY:6pm JFFNF I&O Committee Meeting
DESCRIPTION:Jewish Federation & Foundation of Northeast Florida\nCommunity 
 Calendar\nhttps://jewishjacksonville.org/jewish-federation-of-jacksonville
 -calendar/io-committee-meeting-sept-24\n\nJewish Federation & Foundation o
 f Northeast Florida I&O Committee Meeting\n\n6pm - 7:15pm
DTSTART;TZID=America/New_York:20240912T180000
DTEND;TZID=America/New_York:20240912T191500
END:VEVENT
END:VCALENDAR
