BEGIN:VCALENDAR
PRODID:-//eluceo/ical//2.0/EN
VERSION:2.0
CALSCALE:GREGORIAN
BEGIN:VEVENT
UID:8f3654cd60e64c0dc3a4bbf0f730bbac
DTSTAMP:20260425T004744Z
SUMMARY:6pm JFFNF I&O Committee Meeting
DESCRIPTION:Jewish Federation & Foundation of Northeast Florida\nCommunity 
 Calendar\nhttps://jewishjacksonville.org/jewish-federation-of-jacksonville
 -calendar/io-committee-meeting-jan-25\n\nJewish Federation & Foundation of
  Northeast Florida I&O Committee Meeting\n\n6pm - 7:15pm
DTSTART;TZID=America/New_York:20250107T180000
DTEND;TZID=America/New_York:20250107T191500
END:VEVENT
END:VCALENDAR
