BEGIN:VCALENDAR
PRODID:-//eluceo/ical//2.0/EN
VERSION:2.0
CALSCALE:GREGORIAN
BEGIN:VEVENT
UID:17c031e177d8c8319ecb0dadcc6cc47b
DTSTAMP:20260424T003621Z
SUMMARY:6 pm I&O Committee Meeting
DESCRIPTION:Jewish Federation & Foundation of Northeast Florida\nCommunity 
 Calendar\nhttps://jewishjacksonville.org/jewish-federation-of-jacksonville
 -calendar/io-committee-meeting-Mar24-6pm\n\n6 pm I&O Committee Meeting\, J
 CA\, Donziger Library 
DTSTART;TZID=America/New_York:20240305T180000
DTEND;TZID=America/New_York:20240305T191500
END:VEVENT
END:VCALENDAR
