BEGIN:VCALENDAR
PRODID:-//eluceo/ical//2.0/EN
VERSION:2.0
CALSCALE:GREGORIAN
BEGIN:VEVENT
UID:094dc5836ca0d22dfd3705a99338d051
DTSTAMP:20260425T233356Z
SUMMARY:I&O Committee Meeting
DESCRIPTION:Jewish Federation & Foundation of Northeast Florida\nCommunity 
 Calendar\nhttps://jewishjacksonville.org/jewish-federation-of-jacksonville
 -calendar/io-committee-meeting\n\nQuarterly meeting of the Jewish Federati
 on and Foundation of Northeast Florida's Israel & Overseas Committee 
DTSTART;TZID=America/New_York:20230216T180000
DTEND;TZID=America/New_York:20230216T190000
END:VEVENT
END:VCALENDAR
