BEGIN:VCALENDAR
PRODID:-//eluceo/ical//2.0/EN
VERSION:2.0
CALSCALE:GREGORIAN
BEGIN:VEVENT
UID:31085fff8ff51ca13d867a5575203f81
DTSTAMP:20260423T025658Z
SUMMARY:International Lion of Judah Conference 2022
DESCRIPTION:Jewish Federation & Foundation of Northeast Florida\nCommunity 
 Calendar\nhttps://jewishjacksonville.org/jewish-federation-of-jacksonville
 -calendar/international-lion-of-judah-conference2022\n\nInternational Lion
  of Judah Conference \n\nDecember 11-13 2022 
DTSTART;TZID=America/New_York:20221211T090000
DTEND;TZID=America/New_York:20221213T114500
END:VEVENT
END:VCALENDAR
