BEGIN:VCALENDAR
PRODID:-//eluceo/ical//2.0/EN
VERSION:2.0
CALSCALE:GREGORIAN
BEGIN:VEVENT
UID:dd3dbd95f00e1f89f0affe42730d3f74
DTSTAMP:20260422T110400Z
SUMMARY:International Lion of Judah Conference
DESCRIPTION:Jewish Federation & Foundation of Northeast Florida\nCommunity 
 Calendar\nhttps://jewishjacksonville.org/jewish-federation-of-jacksonville
 -calendar/international-lion-of-judah-conference\n\nInternational Lion of 
 Judah Conference \n\nPhoenix\, AZ 
DTSTART;TZID=America/New_York:20221211T090000
DTEND;TZID=America/New_York:20221213T170000
END:VEVENT
END:VCALENDAR
