BEGIN:VCALENDAR
PRODID:-//eluceo/ical//2.0/EN
VERSION:2.0
CALSCALE:GREGORIAN
BEGIN:VEVENT
UID:7418439dc61b8ab8784b276d2bb099d1
DTSTAMP:20260423T072550Z
SUMMARY:High Holiday Primer Series Begins
DESCRIPTION:Jewish Federation & Foundation of Northeast Florida\nCommunity 
 Calendar\nhttps://jewishjacksonville.org/jewish-federation-of-jacksonville
 -calendar/high-holiday-primer-series-begins\n\nHigh Holiday Primer\n\nPlea
 se join Rabbi Fisch Monday\, September 8\, 15\, 22\n\nand 29 at 6:30pm.\n\
 nBe sure to make the most of your Rosh Hashanah and Yom Kippur this year b
 y becoming more familiar with the service. Please join us for a four part\
 , inspirational\, High Holiday mini-series that will truly bring your Rosh
  Hashanah and Yom Kippur experience to life! Find out what the Holidays ar
 e all about and how meaningful they can be.\n\n 
DTSTART;TZID=America/New_York:20140915T183000
DTEND;TZID=America/New_York:20140915T193000
END:VEVENT
END:VCALENDAR
