BEGIN:VCALENDAR
PRODID:-//eluceo/ical//2.0/EN
VERSION:2.0
CALSCALE:GREGORIAN
BEGIN:VEVENT
UID:426409d166b2018890e237dc91ba33ed
DTSTAMP:20260423T180542Z
SUMMARY:Hadassah Shabbat
DESCRIPTION:Jewish Federation & Foundation of Northeast Florida\nCommunity 
 Calendar\nhttps://jewishjacksonville.org/jewish-federation-of-jacksonville
 -calendar/hadassah-shabbat\n\nHadassah members who reside at River Garden 
 and the Coves\, and their families\, are invited to attend Shabbat Service
 s in the chapel of River Garden\, as Hadassah members from throughout the 
 community will help lead and participate in Shabbat morning services.\n\n
  
DTSTART;TZID=America/New_York:20200307T100000
DTEND;TZID=America/New_York:20200307T120000
END:VEVENT
END:VCALENDAR
