BEGIN:VCALENDAR
PRODID:-//eluceo/ical//2.0/EN
VERSION:2.0
CALSCALE:GREGORIAN
BEGIN:VEVENT
UID:233046c05c737b4048050316502a3f6a
DTSTAMP:20260425T021356Z
SUMMARY:Hadassah Kick-Off Luncheon
DESCRIPTION:Jewish Federation & Foundation of Northeast Florida\nCommunity 
 Calendar\nhttps://jewishjacksonville.org/jewish-federation-of-jacksonville
 -calendar/hadassah-kick-off-luncheon\n\nJacksonville Hadassah Kick-Off Lun
 cheon\, featuring keynote speaker\, David Tucker\,Chief LegalCounsel for t
 he northeast region of the Department of Children and Families\, who will 
 talk about human rights as a Jewish value.\n\n$25 advance reservation. Cat
 hy Winterfield\, Event Chair (904) 994-7772 cwinterfie@aol.com
DTSTART;TZID=America/New_York:20190910T113000
DTEND;TZID=America/New_York:20190910T133000
END:VEVENT
END:VCALENDAR
