BEGIN:VCALENDAR
PRODID:-//eluceo/ical//2.0/EN
VERSION:2.0
CALSCALE:GREGORIAN
BEGIN:VEVENT
UID:7deadac02dce13ee6b4c06c8cc66c506
DTSTAMP:20260419T152757Z
SUMMARY:Hadassah Dine-Out & Educational Program
DESCRIPTION:Jewish Federation & Foundation of Northeast Florida\nCommunity 
 Calendar\nhttps://jewishjacksonville.org/jewish-federation-of-jacksonville
 -calendar/hadassah-dine-out-educational-program\n\nHilary Rotenberg\, Dire
 ctor of Jewish Services at JFCS\, will speak on "The Imporance of Taking C
 are of Yourself"\n\nTo be held at Athenian Owl Restaurant\, 9551 Baymeadow
 s Road \n\nRSVP (904) 504-8251 or jacksonvillehadassah@gmail.com as space
  is limited. No charge\, however\, dutch-treat lunch.\n\n 
DTSTART;TZID=America/New_York:20190813T000000
DTEND;TZID=America/New_York:20190813T235959
END:VEVENT
END:VCALENDAR
