BEGIN:VCALENDAR
PRODID:-//eluceo/ical//2.0/EN
VERSION:2.0
CALSCALE:GREGORIAN
BEGIN:VEVENT
UID:c4a0f992049e39e9a33b7a1ddfaf6043
DTSTAMP:20260422T024239Z
SUMMARY:Hadassah & Beth El Sisterhood Fashion Show
DESCRIPTION:Jewish Federation & Foundation of Northeast Florida\nCommunity 
 Calendar\nhttps://jewishjacksonville.org/jewish-federation-of-jacksonville
 -calendar/hadassah-beth-el-sisterhood-fashion-show\n\nHadassah & Beth El S
 isterhood Fashion show\n\n 
DTSTART;TZID=America/New_York:20170914T190000
DTEND;TZID=America/New_York:20170914T210000
END:VEVENT
END:VCALENDAR
