BEGIN:VCALENDAR
PRODID:-//eluceo/ical//2.0/EN
VERSION:2.0
CALSCALE:GREGORIAN
BEGIN:VEVENT
UID:2ac243da4947a80422ece7262f221b46
DTSTAMP:20260424T032748Z
SUMMARY:9:00 AM - JJC Bat Mitzvah
DESCRIPTION:Jewish Federation & Foundation of Northeast Florida\nCommunity 
 Calendar\nhttps://jewishjacksonville.org/jewish-federation-of-jacksonville
 -calendar/h-daisy-bat-mitzvah\n\nJJC Bat Mitzvah
DTSTART;TZID=America/New_York:20171111T090000
DTEND;TZID=America/New_York:20171111T120000
END:VEVENT
END:VCALENDAR
