BEGIN:VCALENDAR
PRODID:-//eluceo/ical//2.0/EN
VERSION:2.0
CALSCALE:GREGORIAN
BEGIN:VEVENT
UID:92347b15ecd37d0834e88129840b2e1d
DTSTAMP:20260425T183645Z
SUMMARY:1030am Coffee with Oren at the Greenhouse Bar
DESCRIPTION:Jewish Federation & Foundation of Northeast Florida\nCommunity 
 Calendar\nhttps://jewishjacksonville.org/jewish-federation-of-jacksonville
 -calendar/greenhouse-bar\n\nCoffee with Oren at the Greenhouse bar - Janua
 ry 5th\, 11:00 am
DTSTART;TZID=America/New_York:20250105T110000
DTEND;TZID=America/New_York:20250105T130000
END:VEVENT
END:VCALENDAR
