BEGIN:VCALENDAR
PRODID:-//eluceo/ical//2.0/EN
VERSION:2.0
CALSCALE:GREGORIAN
BEGIN:VEVENT
UID:50cbcae732517c9f852fda12ce3a7144
DTSTAMP:20260424T020157Z
SUMMARY:Fundraiser - River Garden Auxiliary Donor Luncheon
DESCRIPTION:Jewish Federation & Foundation of Northeast Florida\nCommunity 
 Calendar\nhttps://jewishjacksonville.org/jewish-federation-of-jacksonville
 -calendar/fundraiser-river-garden-auxiliary-donor-luncheonjan\n\nFundraise
 r - RG auxiliary donor luncheon
DTSTART;TZID=America/New_York:20170124T113000
DTEND;TZID=America/New_York:20170124T140000
END:VEVENT
END:VCALENDAR
