BEGIN:VCALENDAR
PRODID:-//eluceo/ical//2.0/EN
VERSION:2.0
CALSCALE:GREGORIAN
BEGIN:VEVENT
UID:bb2572b677f5a80ef7d9b5281eb076bf
DTSTAMP:20260422T174720Z
SUMMARY:FUNDRAISER JCA
DESCRIPTION:Jewish Federation & Foundation of Northeast Florida\nCommunity 
 Calendar\nhttps://jewishjacksonville.org/jewish-federation-of-jacksonville
 -calendar/fundraiser-jca\n\nJCA Fundraiser
DTSTART;TZID=America/New_York:20150228T190000
DTEND;TZID=America/New_York:20150228T230000
END:VEVENT
END:VCALENDAR
