BEGIN:VCALENDAR
PRODID:-//eluceo/ical//2.0/EN
VERSION:2.0
CALSCALE:GREGORIAN
BEGIN:VEVENT
UID:60e43736f924478421c9dc63a5e93a49
DTSTAMP:20260420T200533Z
SUMMARY:2:00 PM First Basket Film Screening
DESCRIPTION:Jewish Federation & Foundation of Northeast Florida\nCommunity 
 Calendar\nhttps://jewishjacksonville.org/jewish-federation-of-jacksonville
 -calendar/firstbasket\n\nFeature film screening to be held at River Garden
  Senior Services. Additional details to be announced.
DTSTART;TZID=America/New_York:20170611T140000
DTEND;TZID=America/New_York:20170611T160000
END:VEVENT
END:VCALENDAR
