BEGIN:VCALENDAR
PRODID:-//eluceo/ical//2.0/EN
VERSION:2.0
CALSCALE:GREGORIAN
BEGIN:VEVENT
UID:117c12dc2f8dbbfb75369950e22cd7a9
DTSTAMP:20260422T181317Z
SUMMARY:Fifth Annual Soulful Sunday Event for Women
DESCRIPTION:Jewish Federation & Foundation of Northeast Florida\nCommunity 
 Calendar\nhttps://jewishjacksonville.org/jewish-federation-of-jacksonville
 -calendar/fifth-annual-soulful-sunday-event-for-women\n\nAishet\, the wome
 n's division of the Jacksonville Community Kollel will be having our fifth
  annual Soulful Sunday event for women on Sunday\, May 3rd at 7:00 PM.
DTSTART;TZID=America/New_York:20260503T190000
DTEND;TZID=America/New_York:20260503T210000
END:VEVENT
END:VCALENDAR
