BEGIN:VCALENDAR
PRODID:-//eluceo/ical//2.0/EN
VERSION:2.0
CALSCALE:GREGORIAN
BEGIN:VEVENT
UID:3e9655cb12e707fc295470818a3dfff3
DTSTAMP:20260426T024132Z
SUMMARY:6 PM Federation Board Meeting
DESCRIPTION:Jewish Federation & Foundation of Northeast Florida\nCommunity 
 Calendar\nhttps://jewishjacksonville.org/jewish-federation-of-jacksonville
 -calendar/federation-board-meeting-may\n\nFederation board meeting
DTSTART;TZID=America/New_York:20210524T180000
DTEND;TZID=America/New_York:20210524T190000
END:VEVENT
END:VCALENDAR
