BEGIN:VCALENDAR
PRODID:-//eluceo/ical//2.0/EN
VERSION:2.0
CALSCALE:GREGORIAN
BEGIN:VEVENT
UID:dbbdea28ded1de81b0aa669eed9a3437
DTSTAMP:20260421T190742Z
SUMMARY:12 PM Federation Annual Meeting
DESCRIPTION:Jewish Federation & Foundation of Northeast Florida\nCommunity 
 Calendar\nhttps://jewishjacksonville.org/jewish-federation-of-jacksonville
 -calendar/federation-annual-meeting-12pm\n\nFederation Annual Meeting
DTSTART;TZID=America/New_York:20210606T000000
DTEND;TZID=America/New_York:20210606T235959
END:VEVENT
END:VCALENDAR
