BEGIN:VCALENDAR
PRODID:-//eluceo/ical//2.0/EN
VERSION:2.0
CALSCALE:GREGORIAN
BEGIN:VEVENT
UID:46c96a16711d3cdc1f3f97d137e650d0
DTSTAMP:20260421T124856Z
SUMMARY:Federation and Foundation closed for Thanksgiving
DESCRIPTION:Jewish Federation & Foundation of Northeast Florida\nCommunity 
 Calendar\nhttps://jewishjacksonville.org/jewish-federation-of-jacksonville
 -calendar/federation-and-foundation-closed-for-thanksgiving-8562\n\nFedera
 tion and Foundation closed for Thanksgiving
DTSTART;TZID=America/New_York:20131129T000000
DTEND;TZID=America/New_York:20131129T235900
END:VEVENT
END:VCALENDAR
