BEGIN:VCALENDAR
PRODID:-//eluceo/ical//2.0/EN
VERSION:2.0
CALSCALE:GREGORIAN
BEGIN:VEVENT
UID:a4422832fcf976582c21242bb35c7baa
DTSTAMP:20260421T212340Z
SUMMARY:5:30 PM Federation Allocations Meeting
DESCRIPTION:Jewish Federation & Foundation of Northeast Florida\nCommunity 
 Calendar\nhttps://jewishjacksonville.org/jewish-federation-of-jacksonville
 -calendar/federation-allocations-meeting2\n\nWill be held via Zoom!
DTSTART;TZID=America/New_York:20210412T173000
DTEND;TZID=America/New_York:20210412T203000
END:VEVENT
END:VCALENDAR
