BEGIN:VCALENDAR
PRODID:-//eluceo/ical//2.0/EN
VERSION:2.0
CALSCALE:GREGORIAN
BEGIN:VEVENT
UID:72b0884b9fda530dd6dbd22f95b8f9bb
DTSTAMP:20260422T053839Z
SUMMARY:Fed YLD Men's Event
DESCRIPTION:Jewish Federation & Foundation of Northeast Florida\nCommunity 
 Calendar\nhttps://jewishjacksonville.org/jewish-federation-of-jacksonville
 -calendar/fed-yld-mens-event-8543\n\nFed YLD Men's Event
DTSTART;TZID=America/New_York:20140503T090000
DTEND;TZID=America/New_York:20140503T110000
END:VEVENT
END:VCALENDAR
