BEGIN:VCALENDAR
PRODID:-//eluceo/ical//2.0/EN
VERSION:2.0
CALSCALE:GREGORIAN
BEGIN:VEVENT
UID:00c148afbb82aad59344d6957fcbb81f
DTSTAMP:20260421T143515Z
SUMMARY:Eye On Israel - Roim Rachok
DESCRIPTION:Jewish Federation & Foundation of Northeast Florida\nCommunity 
 Calendar\nhttps://jewishjacksonville.org/jewish-federation-of-jacksonville
 -calendar/eye-on-israel-roim-rachok\n\n"Roim Rachok" (Looking Ahead) is an
  innovative program designed to train adults on the autism spectrum in pro
 fessions required by the Israel Defense Forces and the civilian market. Qu
 alified young adults who want to volunteer for service in the IDF or integ
 rate into the job market are taught professions for which they have a comp
 arative advantage.\n\n\nThe next Eye on Israel\, hosted by Sivan Cohen\, O
 maha Community Shlicha\, will feature guest lecturer Jewish Federation & F
 oundation of Northeas...
DTSTART;TZID=America/New_York:20220307T120000
DTEND;TZID=America/New_York:20220307T140000
END:VEVENT
END:VCALENDAR
