BEGIN:VCALENDAR
PRODID:-//eluceo/ical//2.0/EN
VERSION:2.0
CALSCALE:GREGORIAN
BEGIN:VEVENT
UID:de0de588fb6fdb1145b0fcf4f952d5a0
DTSTAMP:20260422T123521Z
SUMMARY:7pm JFFNF YPF Shabbat Dinner
DESCRIPTION:Jewish Federation & Foundation of Northeast Florida\nCommunity 
 Calendar\nhttps://jewishjacksonville.org/jewish-federation-of-jacksonville
 -calendar/evening-jffnf-ypf-shabbat-dinner\n\nYPF November's Shabbat Dinne
 r\n\nHosted by Gabrielle & Yohay Levi\nFriday\, November 10 at 7:00pm\n\nF
 amily Friendly\n\nKosher Meat Meal (Vegan options available)\n\nAddress Av
 ailable Upon RSVP\n\nKindly RSVP by Tuesday\, November 7 \n\nGabrielle L
 evi Event Chair |  Sophie Rothstein YPF Chair | Charles Miller YPF Manage
 r\n\nRegistration: https://events.idonate.com/novembershabbatdinner\n\nCo
 ntact: charlesm@jewishjacksonville.org
DTSTART;TZID=America/New_York:20231110T000000
DTEND;TZID=America/New_York:20231110T235959
END:VEVENT
END:VCALENDAR
