BEGIN:VCALENDAR
PRODID:-//eluceo/ical//2.0/EN
VERSION:2.0
CALSCALE:GREGORIAN
BEGIN:VEVENT
UID:1abde93b2a8ce48ee93d825cc9b764d4
DTSTAMP:20260421T171254Z
SUMMARY:ETZ CHAIM ISRAEL WEEK
DESCRIPTION:Jewish Federation & Foundation of Northeast Florida\nCommunity 
 Calendar\nhttps://jewishjacksonville.org/jewish-federation-of-jacksonville
 -calendar/etz-chaim-israel-week\n\nJoin Rabbi Fisch for Etz Chaim Synagog
 ue Israel Week. For more information contact the Synagogue.
DTSTART;TZID=America/New_York:20160208T090000
DTEND;TZID=America/New_York:20160208T110000
END:VEVENT
END:VCALENDAR
