BEGIN:VCALENDAR
PRODID:-//eluceo/ical//2.0/EN
VERSION:2.0
CALSCALE:GREGORIAN
BEGIN:VEVENT
UID:8a5a41961e6ebc1130ef76902d546aa1
DTSTAMP:20260422T200140Z
SUMMARY:DUVAL COUNTY SCHOOLS FIRST DAY OF SCHOOL
DESCRIPTION:Jewish Federation & Foundation of Northeast Florida\nCommunity 
 Calendar\nhttps://jewishjacksonville.org/jewish-federation-of-jacksonville
 -calendar/duval-county-schools-first-day-of-school\n\nFirst day of school 
 for Duval County Schools.
DTSTART;TZID=America/New_York:20150824T000000
DTEND;TZID=America/New_York:20150824T235959
END:VEVENT
END:VCALENDAR
