BEGIN:VCALENDAR
PRODID:-//eluceo/ical//2.0/EN
VERSION:2.0
CALSCALE:GREGORIAN
BEGIN:VEVENT
UID:09969923106bc1e8f248ae8654357635
DTSTAMP:20260425T184106Z
SUMMARY:CuttingEdge Discoveries in Oncology & Alzheimers
DESCRIPTION:Jewish Federation & Foundation of Northeast Florida\nCommunity 
 Calendar\nhttps://jewishjacksonville.org/jewish-federation-of-jacksonville
 -calendar/cuttingedge-discoveries-in-oncology-alzheimers\n\nJacksonille Ha
 dassah and Beth El Beaches Sisterhood present a joint educational program 
 with updates on Oncology and Alzheimers\, to be held at Beth El Beaches Sy
 nagogue\, 288 N. Roscoe Blvd. Ponte Vedra Beach. It will begin with wine a
 nd horsd'oeuvres\, followed by presentations by Ilicia Shugarman\, MD of C
 ancerSpecialists of North Florida and Francine C. Parfitt of the Alzheimer
 's Disease Center at Mayo. Q & A to follow. \n\n$18. Register at https:/
 /be-sisterhood-jacksonville-hadassah-event....
DTSTART;TZID=America/New_York:20191024T183000
DTEND;TZID=America/New_York:20191024T203000
END:VEVENT
END:VCALENDAR
